BEGIN:VCALENDAR
VERSION:2.0
PRODID:-//eventon.com NONSGML v1.0//EN
CALSCALE:GREGORIAN
METHOD:PUBLISH
BEGIN:VEVENT
UID:69e72e9617b7f
DTSTAMP:20260421T080022Z
DTSTART:20240505T070000Z
DTEND:20240505T140000Z
LOCATION:
SUMMARY:Anrollen Volvostammtisch am 05.05.2024
DESCRIPTION:Das Programm steht. Die Saison kann offiziell eröffnet werden.
  Wir werden am 05. Mai an der Braaker Mühle starten. Achtung es ist die hi
 storische Mühle gemeint\,  siehe Adresse! Hier besteht die Möglichkeit di
 e Mühle zu erkunden und den Tag mit einem frischen Brötchen und einem hei
 ßen Kaffee zu starten. Ab[..]\nhttps://volvostammtisch-sh.de/treffen/anrol
 len-volvostammtisch-am-05-05-2024/
URL:https://volvostammtisch-sh.de/treffen/anrollen-volvostammtisch-am-05-05-2024/
END:VEVENT
END:VCALENDAR