BEGIN:VCALENDAR
VERSION:2.0
PRODID:-//eventon.com NONSGML v1.0//EN
CALSCALE:GREGORIAN
METHOD:PUBLISH
BEGIN:VEVENT
UID:69ed4ce1ed242
DTSTAMP:20260425T232313Z
DTSTART:20250524T080000Z
DTEND:20250524T140000Z
LOCATION:Øster Doense – Volvo Meeting 2025 Idrætsvej 5\,  Øster Doense 9500 Hobro
SUMMARY:Øster Doense – Volvo Meeting 2025 am 24.5.2025 in Hobro
DESCRIPTION:Das Treffen findet im Idrætsvej 5\,  Øster Doense 9500 Hobro 
 statt. Campingmöglichkeit von Freitag bis Sonntag. Bringen Sie hierfür ei
 gene Speisen und Getränke mit. Strom können wir derzeit nicht anbieten\, 
  hoffen aber\,  dass dies gegen eine geringe Gebühr möglich sein wird. We
 nn Sie Fragen haben\,  rufen Sie an und fragen[..]\nhttps://volvostammtisch
 -sh.de/treffen/oster-doense-volvo-meeting-2025-am-24-5-2025-in-hobro/
URL:https://volvostammtisch-sh.de/treffen/oster-doense-volvo-meeting-2025-am-24-5-2025-in-hobro/
END:VEVENT
END:VCALENDAR